BEGIN:VCALENDAR
VERSION:2.0
PRODID:-//TYPO3/NONSGML Calendarize//EN
BEGIN:VEVENT
UID:calendarize-mein-allgaeu-flow-ich-bin-dann-mal-bei-mir
DTSTAMP:20260303T131956Z
DTSTART:20260618T070000Z
DTEND:20260620T160000Z
SUMMARY:Mein Allgäu-Flow. Ich bin dann mal bei mir.
DESCRIPTION:Auszeit. Achtsamkeit. Auftanken. Drei Worte\, die wie gemacht 
 sind für das neue Veranstaltungs-highlight in Bad Wörishofen: „Ich bin
  dann mal bei mir. Mein Allgäu-Flow.“\n\nVom 18. bis 20. Juni 2026 verw
 andelt sich die Kneippstadt in ein Paradies für alle\, die sich nach Ents
 chleunigung\, Energie und echter Lebensfreude sehnen. Drei Tage\, die Kör
 per\, Geist und Seele gleichermaßen ansprechen – inspirierend\, lebendi
 g und alles andere als langweilig.\n\nZeit für dich – voller Genuss und
  Leichtigkeit\nAbschalten\, in einer entspannten Umgebung mit Gleichgesinn
 ten. Ob bei einer sanften Yogaeinheit\, einer Meditation oder einem Spazie
 rgang im Kurpark über den Barfuß-Pfad – jede Aktivität lädt dazu ein
 \, den Moment zu spüren und ganz bei sich anzukommen.\n\nWer Lust auf Kre
 ativität hat\, kann beim Do-It-Yourself-Workshop mit Kräuterexpertin Kar
 in Bendlin sein eigenes Badesalz oder Wohlfühl-Tee herstellen – duftend
 \, natürlich und handgemacht. Oder beim Kurs „Seelenfutter – Snacks\,
  die glücklich machen“ gesunde Leckereien zaubern\, die Körper und See
 le nähren. Im Journaling-Workshop von Buchverliebt heißt es: Stift in di
 e Hand\, Gedanken fließen lassen – ein achtsames Schreiben\, das entsch
 leunigt und inspiriert.\n\nWo Kneipp zu Hause ist\nBad Wörishofen ist nic
 ht nur der Ursprungsort der Kneipp-Lehre\, sondern auch ein Ort\, an dem m
 an heute wieder lernen kann\, auf sich selbst zu hören. „Mein Allgäu-F
 low“ macht die Kneippsche Philosophie erlebbar – nahbar\, modern vermi
 ttelt und mit viel Freude an der Bewegung\, am Wasser und an der Natur. Be
 kannte Elemente wie Barfußpfad oder Wassertreten werden in diesem Rahmen 
 neu in Szene gesetzt und laden dazu ein\, Kneipp auf zeitgemäße Weise zu
  entdecken.\nSo verbindet das Wochenende Tradition und Erlebnis\, Gesundhe
 it und Lebensfreude – und bringt Gästen wie Einheimischen näher\, wofü
 r Bad Wörishofen seit jeher steht: ganzheitliches Wohlbefinden.\n
X-ALT-DESC;FMTTYPE=text/html:Auszeit. Achtsamkeit. Auftanken. Drei Worte\,
  die wie gemacht sind für das neue Veranstaltungs-highlight in Bad Wöris
 hofen: „Ich bin dann mal bei mir. Mein Allgäu-Flow.“\n\nVom 18. bis 2
 0. Juni 2026 verwandelt sich die Kneippstadt in ein Paradies für alle\, d
 ie sich nach Entschleunigung\, Energie und echter Lebensfreude sehnen. Dre
 i Tage\, die Körper\, Geist und Seele gleichermaßen ansprechen – inspi
 rierend\, lebendig und alles andere als langweilig.\n\nZeit für dich – 
 voller Genuss und Leichtigkeit\nAbschalten\, in einer entspannten Umgebung
  mit Gleichgesinnten. Ob bei einer sanften Yogaeinheit\, einer Meditation 
 oder einem Spaziergang im Kurpark über den Barfuß-Pfad – jede Aktivitä
 t lädt dazu ein\, den Moment zu spüren und ganz bei sich anzukommen.\n\n
 Wer Lust auf Kreativität hat\, kann beim Do-It-Yourself-Workshop mit Krä
 uterexpertin Karin Bendlin sein eigenes Badesalz oder Wohlfühl-Tee herste
 llen – duftend\, natürlich und handgemacht. Oder beim Kurs „Seelenfut
 ter – Snacks\, die glücklich machen“ gesunde Leckereien zaubern\, die
  Körper und Seele nähren. Im Journaling-Workshop von Buchverliebt heißt
  es: Stift in die Hand\, Gedanken fließen lassen – ein achtsames Schrei
 ben\, das entschleunigt und inspiriert.\n\nWo Kneipp zu Hause ist\nBad Wö
 rishofen ist nicht nur der Ursprungsort der Kneipp-Lehre\, sondern auch ei
 n Ort\, an dem man heute wieder lernen kann\, auf sich selbst zu hören. „
 Mein Allgäu-Flow“ macht die Kneippsche Philosophie erlebbar – nahbar\
 , modern vermittelt und mit viel Freude an der Bewegung\, am Wasser und an
  der Natur. Bekannte Elemente wie Barfußpfad oder Wassertreten werden in 
 diesem Rahmen neu in Szene gesetzt und laden dazu ein\, Kneipp auf zeitgem
 äße Weise zu entdecken.\nSo verbindet das Wochenende Tradition und Erleb
 nis\, Gesundheit und Lebensfreude – und bringt Gästen wie Einheimischen
  näher\, wofür Bad Wörishofen seit jeher steht: ganzheitliches Wohlbefi
 nden.\n
LOCATION:Bad Wörishofen
END:VEVENT
END:VCALENDAR
